BEGIN:VCALENDAR
VERSION:2.0
PRODID:-//Glebe Community Association - ECPv6.15.20//NONSGML v1.0//EN
CALSCALE:GREGORIAN
METHOD:PUBLISH
X-WR-CALNAME:Glebe Community Association
X-ORIGINAL-URL:https://glebeca.ca
X-WR-CALDESC:Events for Glebe Community Association
REFRESH-INTERVAL;VALUE=DURATION:PT1H
X-Robots-Tag:noindex
X-PUBLISHED-TTL:PT1H
BEGIN:VTIMEZONE
TZID:America/New_York
BEGIN:DAYLIGHT
TZOFFSETFROM:-0500
TZOFFSETTO:-0400
TZNAME:EDT
DTSTART:20150308T070000
END:DAYLIGHT
BEGIN:STANDARD
TZOFFSETFROM:-0400
TZOFFSETTO:-0500
TZNAME:EST
DTSTART:20151101T060000
END:STANDARD
BEGIN:DAYLIGHT
TZOFFSETFROM:-0500
TZOFFSETTO:-0400
TZNAME:EDT
DTSTART:20160313T070000
END:DAYLIGHT
BEGIN:STANDARD
TZOFFSETFROM:-0400
TZOFFSETTO:-0500
TZNAME:EST
DTSTART:20161106T060000
END:STANDARD
BEGIN:DAYLIGHT
TZOFFSETFROM:-0500
TZOFFSETTO:-0400
TZNAME:EDT
DTSTART:20170312T070000
END:DAYLIGHT
BEGIN:STANDARD
TZOFFSETFROM:-0400
TZOFFSETTO:-0500
TZNAME:EST
DTSTART:20171105T060000
END:STANDARD
BEGIN:DAYLIGHT
TZOFFSETFROM:-0500
TZOFFSETTO:-0400
TZNAME:EDT
DTSTART:20180311T070000
END:DAYLIGHT
BEGIN:STANDARD
TZOFFSETFROM:-0400
TZOFFSETTO:-0500
TZNAME:EST
DTSTART:20181104T060000
END:STANDARD
BEGIN:DAYLIGHT
TZOFFSETFROM:-0500
TZOFFSETTO:-0400
TZNAME:EDT
DTSTART:20190310T070000
END:DAYLIGHT
BEGIN:STANDARD
TZOFFSETFROM:-0400
TZOFFSETTO:-0500
TZNAME:EST
DTSTART:20191103T060000
END:STANDARD
BEGIN:DAYLIGHT
TZOFFSETFROM:-0500
TZOFFSETTO:-0400
TZNAME:EDT
DTSTART:20200308T070000
END:DAYLIGHT
BEGIN:STANDARD
TZOFFSETFROM:-0400
TZOFFSETTO:-0500
TZNAME:EST
DTSTART:20201101T060000
END:STANDARD
BEGIN:DAYLIGHT
TZOFFSETFROM:-0500
TZOFFSETTO:-0400
TZNAME:EDT
DTSTART:20210314T070000
END:DAYLIGHT
BEGIN:STANDARD
TZOFFSETFROM:-0400
TZOFFSETTO:-0500
TZNAME:EST
DTSTART:20211107T060000
END:STANDARD
BEGIN:DAYLIGHT
TZOFFSETFROM:-0500
TZOFFSETTO:-0400
TZNAME:EDT
DTSTART:20220313T070000
END:DAYLIGHT
BEGIN:STANDARD
TZOFFSETFROM:-0400
TZOFFSETTO:-0500
TZNAME:EST
DTSTART:20221106T060000
END:STANDARD
BEGIN:DAYLIGHT
TZOFFSETFROM:-0500
TZOFFSETTO:-0400
TZNAME:EDT
DTSTART:20230312T070000
END:DAYLIGHT
BEGIN:STANDARD
TZOFFSETFROM:-0400
TZOFFSETTO:-0500
TZNAME:EST
DTSTART:20231105T060000
END:STANDARD
BEGIN:DAYLIGHT
TZOFFSETFROM:-0500
TZOFFSETTO:-0400
TZNAME:EDT
DTSTART:20240310T070000
END:DAYLIGHT
BEGIN:STANDARD
TZOFFSETFROM:-0400
TZOFFSETTO:-0500
TZNAME:EST
DTSTART:20241103T060000
END:STANDARD
END:VTIMEZONE
BEGIN:VEVENT
DTSTART;TZID=America/New_York:20230527T080000
DTEND;TZID=America/New_York:20230527T140000
DTSTAMP:20260421T082753
CREATED:20221221T154713Z
LAST-MODIFIED:20230517T192501Z
UID:3257-1685174400-1685196000@glebeca.ca
SUMMARY:Great Glebe Garage Sale 2023
DESCRIPTION:This year’s Great Glebe Garage Sale is set for Saturday May 27\, 2023 from 8AM to 2PM.
URL:https://glebeca.ca/event/great-glebe-garage-sale-2023/
LOCATION:Glebe Community Centre\, 175 Third Avenue\, Ottawa\, Ontario\, K1S 2K2\, Canada
CATEGORIES:Great Glebe Garage Sale
ATTACH;FMTTYPE=image/jpeg:https://glebeca.ca/wp-content/uploads/2016/04/gggs2012-2.jpeg
END:VEVENT
BEGIN:VEVENT
DTSTART;VALUE=DATE:20190525
DTEND;VALUE=DATE:20190526
DTSTAMP:20260421T082753
CREATED:20190419T025023Z
LAST-MODIFIED:20190419T025023Z
UID:2044-1558742400-1558828799@glebeca.ca
SUMMARY:Heritage at the GGS 2019!
DESCRIPTION:Heritage Plaques at the Great Glebe Garage Sale \nFor the 6th year running\, the Glebe Community Association invites homeowners and residents of the Glebe to celebrate the architecture and social history of the neighbourhood by displaying a temporary plaque identifying the history and architecture of your home on May 25\, 2019. \nWant to join in?  It’s simple! Prepare and install a simple temporary plaque on your home and include whatever information you like.  We suggest something on basic architectural style along with something on the builder/architect and historical occupants.   We have a template available on our website to help and we are also happy to prepare the plaque for you using the research we’ve collected.  We suggest you use an adhesive label on foam board and attach it to a stick or a tree! If your home is one of those proposed by the City to be listed on the Heritage Register\, we can provide you with a copy of the document for your house to use in making your plaque. \nIf you are looking for help and sources to locate historical information on your house\, we suggest you check out the City of Ottawa Archives guide on Researching the History of your Home.  We have also added some tips on the committee website on how you can do basic research from home! \nSince completing preliminary research for the proposed Phase II of Clemow Estate HCD\, the Glebe Community Association Heritage committee has made our research results available to residents.  In 2017\, the committee prepared temporary plaques for all 160 houses in the study area with that information.   For those of you in the study area\, We hope you will put out your signs again this year!  If you no longer have your sign\, we’d be happy to make you a replacement.  Drop the committee an e-mail! \nThe committee is also continuing to conduct research in the Phase III study area which includes Powell Ave\, Glebe Avenue from Bank to Bronson and Central Park West including the homes surrounding the park.  If you live in this area\, you may find research on your home in our shared dropbox account available on our website or by e-mailing the committee at the address below. \nFor more information\, visit the GCA Heritage Committee’s website:\nhttp://www.glebeca.ca/committees/heritage/heritage.html\n or e-mail us at:\nheritage@glebeca.ca
URL:https://glebeca.ca/event/heritage-at-the-ggs-2019/
LOCATION:Ontario
CATEGORIES:Great Glebe Garage Sale,Heritage Meeting
ATTACH;FMTTYPE=image/jpeg:https://glebeca.ca/wp-content/uploads/2019/04/IMG_5553-e1555643305737.jpeg
END:VEVENT
BEGIN:VEVENT
DTSTART;TZID=America/New_York:20180526T040000
DTEND;TZID=America/New_York:20180526T110000
DTSTAMP:20260421T082753
CREATED:20180224T020522Z
LAST-MODIFIED:20180525T165415Z
UID:1636-1527307200-1527332400@glebeca.ca
SUMMARY:Great Glebe Garage Sale
DESCRIPTION:The Great Glebe Garage Sale is an annual community garage sale and celebration of Spring. Homeowners in the Glebe set up sales on their front lawns\, driveways and porches and Bank Street shops hold a massive sidewalk sale. Collectively it makes for one gigantic event attracting thousands of people to the neighbourhood.  This year the sale takes place on Saturday May 26th\, 2018 and runs from approximately 8:00 a.m. to 3:00 p.m\, rain or shine. \nFrom the start of the Great Glebe Garage Sale in 1986\, the Glebe Community Association has encouraged vendors (and shoppers) to voluntarily donate some of their proceeds to the Ottawa Food Bank.  The best way to donate is through the Ottawa Food Bank’s dedicated web page at www.ottawafoodbank.ca/gggs.  Last year’s sale raised over $14\,000 for the Ottawa Food Bank – this year we hope to raise even more. \nGot questions about this year’s event? Head to our FAQs page. \n 
URL:https://glebeca.ca/event/great-glebe-garage-sale-3/
LOCATION:The Glebe (neighbourhood in Ottawa)\, 175 Third Avenue\, Ottawa\, Canada
CATEGORIES:Great Glebe Garage Sale
ATTACH;FMTTYPE=image/jpeg:https://glebeca.ca/wp-content/uploads/2016/04/IMG_2150s.jpg
END:VEVENT
BEGIN:VEVENT
DTSTART;TZID=America/New_York:20170527T050000
DTEND;TZID=America/New_York:20170527T110000
DTSTAMP:20260421T082753
CREATED:20170323T060809Z
LAST-MODIFIED:20170424T190547Z
UID:1159-1495861200-1495882800@glebeca.ca
SUMMARY:Heritage at the Great Glebe Garage Sale
DESCRIPTION:Learn about some of the Glebe’s architectural history while doing your bargain shopping! \nDetails on how to participate here! https://glebeca.ca/heritage-at-gggs-2017/
URL:https://glebeca.ca/event/heritage-at-the-great-glebe-garage-sale/
LOCATION:Ontario
CATEGORIES:Great Glebe Garage Sale,Heritage Meeting
ATTACH;FMTTYPE=image/jpeg:https://glebeca.ca/wp-content/uploads/2017/03/IMG_1395-e1490234748858.jpg
END:VEVENT
BEGIN:VEVENT
DTSTART;TZID=America/New_York:20160528T040000
DTEND;TZID=America/New_York:20160528T110000
DTSTAMP:20260421T082753
CREATED:20160405T062610Z
LAST-MODIFIED:20160420T202338Z
UID:356-1464408000-1464433200@glebeca.ca
SUMMARY:Great Glebe Garage Sale
DESCRIPTION:The Great Glebe Garage Sale is a community event organized by the Glebe Community Association since 1986. Homeowners in the Glebe are the primary vendors working on their front lawns\, driveways and porches. Collectively they make one giant sale that has become an annual community festival attracting thousands of people to the neighbourhood.
URL:https://glebeca.ca/event/great-glebe-garage-sale/
LOCATION:Ontario
CATEGORIES:Great Glebe Garage Sale
ATTACH;FMTTYPE=image/jpeg:https://glebeca.ca/wp-content/uploads/2016/04/gggs2012-8.jpeg
END:VEVENT
END:VCALENDAR