BEGIN:VCALENDAR
VERSION:2.0
PRODID:-//Glebe Community Association - ECPv6.15.20//NONSGML v1.0//EN
CALSCALE:GREGORIAN
METHOD:PUBLISH
X-WR-CALNAME:Glebe Community Association
X-ORIGINAL-URL:https://glebeca.ca
X-WR-CALDESC:Events for Glebe Community Association
REFRESH-INTERVAL;VALUE=DURATION:PT1H
X-Robots-Tag:noindex
X-PUBLISHED-TTL:PT1H
BEGIN:VTIMEZONE
TZID:America/New_York
BEGIN:DAYLIGHT
TZOFFSETFROM:-0500
TZOFFSETTO:-0400
TZNAME:EDT
DTSTART:20230312T070000
END:DAYLIGHT
BEGIN:STANDARD
TZOFFSETFROM:-0400
TZOFFSETTO:-0500
TZNAME:EST
DTSTART:20231105T060000
END:STANDARD
BEGIN:DAYLIGHT
TZOFFSETFROM:-0500
TZOFFSETTO:-0400
TZNAME:EDT
DTSTART:20240310T070000
END:DAYLIGHT
BEGIN:STANDARD
TZOFFSETFROM:-0400
TZOFFSETTO:-0500
TZNAME:EST
DTSTART:20241103T060000
END:STANDARD
BEGIN:DAYLIGHT
TZOFFSETFROM:-0500
TZOFFSETTO:-0400
TZNAME:EDT
DTSTART:20250309T070000
END:DAYLIGHT
BEGIN:STANDARD
TZOFFSETFROM:-0400
TZOFFSETTO:-0500
TZNAME:EST
DTSTART:20251102T060000
END:STANDARD
END:VTIMEZONE
BEGIN:VEVENT
DTSTART;TZID=America/New_York:20240921T093000
DTEND;TZID=America/New_York:20240921T123000
DTSTAMP:20260420T065516
CREATED:20240916T161318Z
LAST-MODIFIED:20240916T161318Z
UID:3872-1726911000-1726921800@glebeca.ca
SUMMARY:Bottle Drive for Operation Come Home
DESCRIPTION:Drop off your empties this Saturday at Kunstadt Sports:\nBottleWorks (run by Operation Come Home) and the Glebe Community Association are teaming up to give people the chance to support homeless and at-risk youth in Ottawa. Drop off your empty beer\, wine and liquor bottles and cans at Kunstadt Sports on Bank Street this Saturday September 21 from 9:30 am to 12:30 pm. (The next two dates are October 19 and November 19.)
URL:https://glebeca.ca/event/bottle-drive-for-operation-come-home-3/
LOCATION:Kundstadt Parking lot\, 680 Bank St\, Ottawa\, Ontario\, K1S 3T9\, Canada
CATEGORIES:Miscellaneous,Special Event
ATTACH;FMTTYPE=image/jpeg:https://glebeca.ca/wp-content/uploads/2020/10/unnamed.jpg
END:VEVENT
END:VCALENDAR