BEGIN:VCALENDAR
VERSION:2.0
PRODID:-//Glebe Community Association - ECPv6.15.20//NONSGML v1.0//EN
CALSCALE:GREGORIAN
METHOD:PUBLISH
X-ORIGINAL-URL:https://glebeca.ca
X-WR-CALDESC:Events for Glebe Community Association
REFRESH-INTERVAL;VALUE=DURATION:PT1H
X-Robots-Tag:noindex
X-PUBLISHED-TTL:PT1H
BEGIN:VTIMEZONE
TZID:America/New_York
BEGIN:DAYLIGHT
TZOFFSETFROM:-0500
TZOFFSETTO:-0400
TZNAME:EDT
DTSTART:20190310T070000
END:DAYLIGHT
BEGIN:STANDARD
TZOFFSETFROM:-0400
TZOFFSETTO:-0500
TZNAME:EST
DTSTART:20191103T060000
END:STANDARD
BEGIN:DAYLIGHT
TZOFFSETFROM:-0500
TZOFFSETTO:-0400
TZNAME:EDT
DTSTART:20200308T070000
END:DAYLIGHT
BEGIN:STANDARD
TZOFFSETFROM:-0400
TZOFFSETTO:-0500
TZNAME:EST
DTSTART:20201101T060000
END:STANDARD
BEGIN:DAYLIGHT
TZOFFSETFROM:-0500
TZOFFSETTO:-0400
TZNAME:EDT
DTSTART:20210314T070000
END:DAYLIGHT
BEGIN:STANDARD
TZOFFSETFROM:-0400
TZOFFSETTO:-0500
TZNAME:EST
DTSTART:20211107T060000
END:STANDARD
END:VTIMEZONE
BEGIN:VEVENT
DTSTART;TZID=America/New_York:20201031T093000
DTEND;TZID=America/New_York:20201031T123000
DTSTAMP:20260424T174321
CREATED:20201029T160800Z
LAST-MODIFIED:20201029T160800Z
UID:2514-1604136600-1604147400@glebeca.ca
SUMMARY:Bottle Drive for Operation Come Home
DESCRIPTION:Drop off your empties this Saturday at Kunstadt Sports:\nBottleWorks (run by Operation Come Home) and the Glebe Community Association are teaming up to give people the chance to support homeless and at-risk youth in Ottawa. Drop off your empty beer\, wine and liquor bottles and cans at Kunstadt Sports on Bank Street this Saturday (Halloween) from 9:30 am to 12:30 pm. (The next two dates are November 28 and January 9.)
URL:https://glebeca.ca/event/bottle-drive-for-operation-come-home/
LOCATION:Kundstadt Parking lot\, 680 Bank St\, Ottawa\, Ontario\, K1S 3T9\, Canada
CATEGORIES:Miscellaneous,Special Event
ATTACH;FMTTYPE=image/jpeg:https://glebeca.ca/wp-content/uploads/2020/10/unnamed.jpg
END:VEVENT
END:VCALENDAR