BEGIN:VCALENDAR
VERSION:2.0
PRODID:-//Glebe Community Association - ECPv6.15.20//NONSGML v1.0//EN
CALSCALE:GREGORIAN
METHOD:PUBLISH
X-WR-CALNAME:Glebe Community Association
X-ORIGINAL-URL:https://glebeca.ca
X-WR-CALDESC:Events for Glebe Community Association
REFRESH-INTERVAL;VALUE=DURATION:PT1H
X-Robots-Tag:noindex
X-PUBLISHED-TTL:PT1H
BEGIN:VTIMEZONE
TZID:America/New_York
BEGIN:DAYLIGHT
TZOFFSETFROM:-0500
TZOFFSETTO:-0400
TZNAME:EDT
DTSTART:20230312T070000
END:DAYLIGHT
BEGIN:STANDARD
TZOFFSETFROM:-0400
TZOFFSETTO:-0500
TZNAME:EST
DTSTART:20231105T060000
END:STANDARD
BEGIN:DAYLIGHT
TZOFFSETFROM:-0500
TZOFFSETTO:-0400
TZNAME:EDT
DTSTART:20240310T070000
END:DAYLIGHT
BEGIN:STANDARD
TZOFFSETFROM:-0400
TZOFFSETTO:-0500
TZNAME:EST
DTSTART:20241103T060000
END:STANDARD
BEGIN:DAYLIGHT
TZOFFSETFROM:-0500
TZOFFSETTO:-0400
TZNAME:EDT
DTSTART:20250309T070000
END:DAYLIGHT
BEGIN:STANDARD
TZOFFSETFROM:-0400
TZOFFSETTO:-0500
TZNAME:EST
DTSTART:20251102T060000
END:STANDARD
END:VTIMEZONE
BEGIN:VEVENT
DTSTART;TZID=America/New_York:20240504T100000
DTEND;TZID=America/New_York:20240504T120000
DTSTAMP:20260420T132924
CREATED:20240425T115341Z
LAST-MODIFIED:20240425T115341Z
UID:3707-1714816800-1714824000@glebeca.ca
SUMMARY:Annual Park Cleanup
DESCRIPTION:Come on out for some fun park play and community service as part of our ongoing effort to help keep our community’s parks safe\, clean\, and green! The Glebe Community Association’s annual park clean-ups\, part of the City of Ottawa’s Spring Cleaning the Capital programme\, will take place this year in each of the Glebe’s 13 beautiful parks on Saturday\, May 4 starting at 10:00 a.m. (pouring rain date: Sunday\, May 5). Gather with your friends\, family\, and neighbours to the park clean-up near you\, make some new acquaintances  – and create some more wonderful neighbourhood moments and memories! Here is a link for more details \n\nhttps://glebeca.ca/the-glebe-community-associations-annual-park-clean-up-2024/
URL:https://glebeca.ca/event/annual-park-cleanup/
CATEGORIES:Parks Meeting,Special Event
ATTACH;FMTTYPE=image/jpeg:https://glebeca.ca/wp-content/uploads/2021/07/Patterson-Creek-Lagoon-scaled.jpg
END:VEVENT
END:VCALENDAR